BEGIN:VCALENDAR
VERSION:2.0
PRODID:-//eventon.com NONSGML v1.0//EN
BEGIN:VEVENT
UID:69e73890c1f42
DTSTAMP:20260421T084256
DTSTART:20211106T180000Z
DTEND:20211106T223000Z
TZID:Europe/Berlin
LOCATION:Dampfnudel Am See 2\,  76761 Rülzheim
SUMMARY:RÜLZHEIM
DESCRIPTION: Se Bummtschacks & Fine R.I.P. in der Eventkuppel Dampfnudel\,  Am See 2\,  76761 Rülzheim Eintritt: VVK 18 € Einlass: ab 18:00 Uhr 2G Veranstaltung
URL:https://sebummtschacks.de/events/ruelzheim
END:VEVENT
END:VCALENDAR